BEGIN:VCALENDAR
VERSION:2.0
PRODID:-//AKTS - ECPv6.2.9//NONSGML v1.0//EN
CALSCALE:GREGORIAN
METHOD:PUBLISH
X-ORIGINAL-URL:https://www.francescopenna.it
X-WR-CALDESC:Eventi per AKTS
REFRESH-INTERVAL;VALUE=DURATION:PT1H
X-Robots-Tag:noindex
X-PUBLISHED-TTL:PT1H
BEGIN:VTIMEZONE
TZID:Europe/Rome
BEGIN:DAYLIGHT
TZOFFSETFROM:+0100
TZOFFSETTO:+0200
TZNAME:CEST
DTSTART:20230326T010000
END:DAYLIGHT
BEGIN:STANDARD
TZOFFSETFROM:+0200
TZOFFSETTO:+0100
TZNAME:CET
DTSTART:20231029T010000
END:STANDARD
END:VTIMEZONE
BEGIN:VEVENT
DTSTART;TZID=Europe/Rome:20230129T100000
DTEND;TZID=Europe/Rome:20230129T123000
DTSTAMP:20260422T040717
CREATED:20230109T190401Z
LAST-MODIFIED:20230120T115514Z
UID:539-1674986400-1674995400@www.francescopenna.it
SUMMARY:Stage Karate Light Contact
DESCRIPTION:Lo stage è aperto a tutti i praticanti di discipline di combattimento a partire da 9 anni (minimo cintura gialla). \nE’ consigliato l’uso delle protezioni (guantini e paratibia-piede). \n \n 
URL:https://www.francescopenna.it/event/stage-karate-light-contact/
LOCATION:Palestra Scuole Bonvesin\, Via Cottolengo 1\, Legnano\, EUR\, 20025\, Italia
CATEGORIES:Karate Light Contact
END:VEVENT
END:VCALENDAR