BEGIN:VCALENDAR
VERSION:2.0
PRODID:-//AKTS - ECPv6.2.9//NONSGML v1.0//EN
CALSCALE:GREGORIAN
METHOD:PUBLISH
X-WR-CALNAME:AKTS
X-ORIGINAL-URL:https://www.francescopenna.it
X-WR-CALDESC:Eventi per AKTS
REFRESH-INTERVAL;VALUE=DURATION:PT1H
X-Robots-Tag:noindex
X-PUBLISHED-TTL:PT1H
BEGIN:VTIMEZONE
TZID:Europe/Rome
BEGIN:DAYLIGHT
TZOFFSETFROM:+0100
TZOFFSETTO:+0200
TZNAME:CEST
DTSTART:20230326T010000
END:DAYLIGHT
BEGIN:STANDARD
TZOFFSETFROM:+0200
TZOFFSETTO:+0100
TZNAME:CET
DTSTART:20231029T010000
END:STANDARD
END:VTIMEZONE
BEGIN:VEVENT
DTSTART;TZID=Europe/Rome:20230304T153000
DTEND;TZID=Europe/Rome:20230304T173000
DTSTAMP:20260421T222338
CREATED:20230115T215055Z
LAST-MODIFIED:20230122T112219Z
UID:565-1677943800-1677951000@www.francescopenna.it
SUMMARY:Karate Light Contact: programmi esami cinture colorate (1)
DESCRIPTION:Questo è il primo di un ciclo di allenamenti progressivi (dal semplice al complesso) dedicati allo studio del programma di esami di graduazione per cinture colorate (da gialla a marrone). \nQuesta sessione è dedicata allo studio del Kata e dei fondamentali (anche applicati). \nPer gli associati Mingo Fight Italia 2022-2023 la quota di partecipazione è ridotta a € 10\,00. \nIscrizioni entro il 28 febbraio 2023 con semplice comunicazione a: 2020akts@gmail.com  \nPer essere ammessi all’esame occorre aver partecipato ad almeno uno degli allenamenti (di tre) appositamente organizzati.  \n  \n 
URL:https://www.francescopenna.it/event/stage-light-contact-programmi-esami-cinture-colorate-1/
LOCATION:Il Poliedro CFS\, Via B. Sella 149\, Pray\, 13867\, Italia
CATEGORIES:Karate Light Contact
END:VEVENT
END:VCALENDAR